BEGIN:VCALENDAR
VERSION:2.0
PRODID:-//SP St. Gallen - ECPv6.15.6//NONSGML v1.0//EN
CALSCALE:GREGORIAN
METHOD:PUBLISH
X-WR-CALNAME:SP St. Gallen
X-ORIGINAL-URL:https://sp-sg.ch
X-WR-CALDESC:Veranstaltungen im SP St. Gallen
REFRESH-INTERVAL;VALUE=DURATION:PT1H
X-Robots-Tag:noindex
X-PUBLISHED-TTL:PT1H
BEGIN:VTIMEZONE
TZID:Europe/Zurich
BEGIN:DAYLIGHT
TZOFFSETFROM:+0100
TZOFFSETTO:+0200
TZNAME:CEST
DTSTART:20250330T010000
END:DAYLIGHT
BEGIN:STANDARD
TZOFFSETFROM:+0200
TZOFFSETTO:+0100
TZNAME:CET
DTSTART:20251026T010000
END:STANDARD
BEGIN:DAYLIGHT
TZOFFSETFROM:+0100
TZOFFSETTO:+0200
TZNAME:CEST
DTSTART:20260329T010000
END:DAYLIGHT
BEGIN:STANDARD
TZOFFSETFROM:+0200
TZOFFSETTO:+0100
TZNAME:CET
DTSTART:20261025T010000
END:STANDARD
BEGIN:DAYLIGHT
TZOFFSETFROM:+0100
TZOFFSETTO:+0200
TZNAME:CEST
DTSTART:20270328T010000
END:DAYLIGHT
BEGIN:STANDARD
TZOFFSETFROM:+0200
TZOFFSETTO:+0100
TZNAME:CET
DTSTART:20271031T010000
END:STANDARD
END:VTIMEZONE
BEGIN:VEVENT
DTSTART;TZID=Europe/Zurich:20260509T140000
DTEND;TZID=Europe/Zurich:20260509T170000
DTSTAMP:20260425T161358
CREATED:20260309T121457Z
LAST-MODIFIED:20260421T131914Z
UID:89411-1778335200-1778346000@sp-sg.ch
SUMMARY:Ordentlicher Parteitag 2026
DESCRIPTION:Wir laden euch herzlich ein zum ordentlichen Parteitag 2026 \n\nTraktanden ordentlicher Parteitag 2026\nJahresbericht und Rechnung\nInitiativtext Sonderkredit Aus- und Weiterbildungsoffensive\nInitiativtext Doppelproporz-Initiative\nResolution “Nein zu antimuslimischem Rassismus und Diskriminierung – Demokratie und Vielfalt schützen!”\n\n  \n\nAnmeldung \nBitte aktivieren Sie JavaScript in Ihrem Browser\, um dieses Formular fertigzustellen.Vorname *Nachname *E-Mail *Anmelden  \nBitte melde dich bis zum 27. April an. Danke.
URL:https://sp-sg.ch/veranstaltung/ordentlicher-parteitag-2026/
LOCATION:Stadtufer\, Stadtbrücke 3\, Lichtensteig\, 9620
END:VEVENT
END:VCALENDAR