BEGIN:VCALENDAR
VERSION:2.0
PRODID:-//SP St. Gallen - ECPv6.15.6//NONSGML v1.0//EN
CALSCALE:GREGORIAN
METHOD:PUBLISH
X-WR-CALNAME:SP St. Gallen
X-ORIGINAL-URL:https://sp-sg.ch
X-WR-CALDESC:Veranstaltungen im SP St. Gallen
REFRESH-INTERVAL;VALUE=DURATION:PT1H
X-Robots-Tag:noindex
X-PUBLISHED-TTL:PT1H
BEGIN:VTIMEZONE
TZID:Europe/Zurich
BEGIN:DAYLIGHT
TZOFFSETFROM:+0100
TZOFFSETTO:+0200
TZNAME:CEST
DTSTART:20220327T010000
END:DAYLIGHT
BEGIN:STANDARD
TZOFFSETFROM:+0200
TZOFFSETTO:+0100
TZNAME:CET
DTSTART:20221030T010000
END:STANDARD
BEGIN:DAYLIGHT
TZOFFSETFROM:+0100
TZOFFSETTO:+0200
TZNAME:CEST
DTSTART:20230326T010000
END:DAYLIGHT
BEGIN:STANDARD
TZOFFSETFROM:+0200
TZOFFSETTO:+0100
TZNAME:CET
DTSTART:20231029T010000
END:STANDARD
BEGIN:DAYLIGHT
TZOFFSETFROM:+0100
TZOFFSETTO:+0200
TZNAME:CEST
DTSTART:20240331T010000
END:DAYLIGHT
BEGIN:STANDARD
TZOFFSETFROM:+0200
TZOFFSETTO:+0100
TZNAME:CET
DTSTART:20241027T010000
END:STANDARD
END:VTIMEZONE
BEGIN:VEVENT
DTSTART;TZID=Europe/Zurich:20231022T163000
DTEND;TZID=Europe/Zurich:20231022T200000
DTSTAMP:20260424T121735
CREATED:20230926T134457Z
LAST-MODIFIED:20231012T115956Z
UID:87676-1697992200-1698004800@sp-sg.ch
SUMMARY:Wahlfest
DESCRIPTION:
URL:https://sp-sg.ch/veranstaltung/wahlfest-2/
LOCATION:1733\, Goliathgasse 29\, St. Gallen\, 9000\, Switzerland
END:VEVENT
END:VCALENDAR